BEGIN:VCALENDAR
VERSION:2.0
PRODID:-//Genusto
CALSCALE:GREGORIAN
METHOD:PUBLISH
X-WR-CALNAME:Genusto
X-ORIGINAL-URL:https://genusto.de/shop/verkostung-rum-am-23-01-2026/
X-WR-CALDESC:Verkostung: Rum am 23.01.2026
BEGIN:VEVENT
DTSTART:20260123T190000
DTEND:20260123T220000
SUMMARY:Verkostung: Rum am 23.01.2026
DESCRIPTION:
LOCATION:Hülsdonker Straße 30, 47441 Moers, Deutschland
END:VEVENT
END:VCALENDAR
